BEGIN:VCALENDAR
VERSION:2.0
PRODID:-//TSG Haßloch Turnen - ECPv5.10.0//NONSGML v1.0//EN
CALSCALE:GREGORIAN
METHOD:PUBLISH
X-WR-CALNAME:TSG Haßloch Turnen
X-ORIGINAL-URL:http://www.turnen-tsg-hassloch.de
X-WR-CALDESC:Veranstaltungen für TSG Haßloch Turnen
BEGIN:VTIMEZONE
TZID:Europe/Luxembourg
BEGIN:DAYLIGHT
TZOFFSETFROM:+0100
TZOFFSETTO:+0200
TZNAME:CEST
DTSTART:20210328T010000
END:DAYLIGHT
BEGIN:STANDARD
TZOFFSETFROM:+0200
TZOFFSETTO:+0100
TZNAME:CET
DTSTART:20211031T010000
END:STANDARD
END:VTIMEZONE
BEGIN:VEVENT
DTSTART;TZID=Europe/Luxembourg:20211023T080000
DTEND;TZID=Europe/Luxembourg:20211024T170000
DTSTAMP:20260420T130845
CREATED:20210912T165215Z
LAST-MODIFIED:20210912T165215Z
UID:10071-1634976000-1635094800@www.turnen-tsg-hassloch.de
SUMMARY:Deutsche Jugendmeisterschaften
DESCRIPTION:
URL:http://www.turnen-tsg-hassloch.de/event/deutsche-jugendmeisterschaften-6/
LOCATION:Berkheim
END:VEVENT
END:VCALENDAR